BEGIN:VCALENDAR
VERSION:2.0
PRODID:-//McCracken Middle School Band - ECPv6.15.20//NONSGML v1.0//EN
CALSCALE:GREGORIAN
METHOD:PUBLISH
X-ORIGINAL-URL:https://mccrackenband.com
X-WR-CALDESC:Events for McCracken Middle School Band
REFRESH-INTERVAL;VALUE=DURATION:PT1H
X-Robots-Tag:noindex
X-PUBLISHED-TTL:PT1H
BEGIN:VTIMEZONE
TZID:America/Chicago
BEGIN:DAYLIGHT
TZOFFSETFROM:-0600
TZOFFSETTO:-0500
TZNAME:CDT
DTSTART:20220313T080000
END:DAYLIGHT
BEGIN:STANDARD
TZOFFSETFROM:-0500
TZOFFSETTO:-0600
TZNAME:CST
DTSTART:20221106T070000
END:STANDARD
BEGIN:DAYLIGHT
TZOFFSETFROM:-0600
TZOFFSETTO:-0500
TZNAME:CDT
DTSTART:20230312T080000
END:DAYLIGHT
BEGIN:STANDARD
TZOFFSETFROM:-0500
TZOFFSETTO:-0600
TZNAME:CST
DTSTART:20231105T070000
END:STANDARD
BEGIN:DAYLIGHT
TZOFFSETFROM:-0600
TZOFFSETTO:-0500
TZNAME:CDT
DTSTART:20240310T080000
END:DAYLIGHT
BEGIN:STANDARD
TZOFFSETFROM:-0500
TZOFFSETTO:-0600
TZNAME:CST
DTSTART:20241103T070000
END:STANDARD
END:VTIMEZONE
BEGIN:VEVENT
DTSTART;TZID=America/Chicago:20230926T084500
DTEND;TZID=America/Chicago:20230926T093000
DTSTAMP:20260420T081131
CREATED:20230801T191034Z
LAST-MODIFIED:20230801T191059Z
UID:2949-1695717900-1695720600@mccrackenband.com
SUMMARY:Symphonic Band Performance at Middleton
DESCRIPTION:Beginner Band recruitment concert. Symphonic Band regular rehearsal at Middleton.
URL:https://mccrackenband.com/event/symphonic-band-performance-at-middleton-2/
LOCATION:Middleton Elementary School. Gym\, 8300 St Louis Ave\, Skokie\, 60076\, United States
CATEGORIES:Symphonic Band
END:VEVENT
END:VCALENDAR