BEGIN:VCALENDAR
VERSION:2.0
PRODID:-//McCracken Middle School Band - ECPv6.15.20//NONSGML v1.0//EN
CALSCALE:GREGORIAN
METHOD:PUBLISH
X-WR-CALNAME:McCracken Middle School Band
X-ORIGINAL-URL:https://mccrackenband.com
X-WR-CALDESC:Events for McCracken Middle School Band
REFRESH-INTERVAL;VALUE=DURATION:PT1H
X-Robots-Tag:noindex
X-PUBLISHED-TTL:PT1H
BEGIN:VTIMEZONE
TZID:America/Chicago
BEGIN:DAYLIGHT
TZOFFSETFROM:-0600
TZOFFSETTO:-0500
TZNAME:CDT
DTSTART:20230312T080000
END:DAYLIGHT
BEGIN:STANDARD
TZOFFSETFROM:-0500
TZOFFSETTO:-0600
TZNAME:CST
DTSTART:20231105T070000
END:STANDARD
BEGIN:DAYLIGHT
TZOFFSETFROM:-0600
TZOFFSETTO:-0500
TZNAME:CDT
DTSTART:20240310T080000
END:DAYLIGHT
BEGIN:STANDARD
TZOFFSETFROM:-0500
TZOFFSETTO:-0600
TZNAME:CST
DTSTART:20241103T070000
END:STANDARD
BEGIN:DAYLIGHT
TZOFFSETFROM:-0600
TZOFFSETTO:-0500
TZNAME:CDT
DTSTART:20250309T080000
END:DAYLIGHT
BEGIN:STANDARD
TZOFFSETFROM:-0500
TZOFFSETTO:-0600
TZNAME:CST
DTSTART:20251102T070000
END:STANDARD
END:VTIMEZONE
BEGIN:VEVENT
DTSTART;TZID=America/Chicago:20240304T190000
DTEND;TZID=America/Chicago:20240304T203000
DTSTAMP:20260420T033112
CREATED:20230801T210835Z
LAST-MODIFIED:20240112T201416Z
UID:2999-1709578800-1709584200@mccrackenband.com
SUMMARY:Beginner Band and Symphonic Band Concert
DESCRIPTION:
URL:https://mccrackenband.com/event/beginner-band-and-symphonic-band-concert-2/
LOCATION:McCracken Middle School\, 8000 East Prairie\, Skokie\, 60076-3471\, United States
CATEGORIES:Beginner Band,Symphonic Band
END:VEVENT
END:VCALENDAR